BEGIN:VCALENDAR
VERSION:2.0
PRODID:-//Golf Lerma - ECPv6.15.14//NONSGML v1.0//EN
CALSCALE:GREGORIAN
METHOD:PUBLISH
X-WR-CALNAME:Golf Lerma
X-ORIGINAL-URL:https://www.golflerma.es
X-WR-CALDESC:Eventos para Golf Lerma
REFRESH-INTERVAL;VALUE=DURATION:PT1H
X-Robots-Tag:noindex
X-PUBLISHED-TTL:PT1H
BEGIN:VTIMEZONE
TZID:UTC
BEGIN:STANDARD
TZOFFSETFROM:+0000
TZOFFSETTO:+0000
TZNAME:UTC
DTSTART:20210101T000000
END:STANDARD
END:VTIMEZONE
BEGIN:VEVENT
DTSTART;TZID=UTC:20221217T090000
DTEND;TZID=UTC:20221217T140000
DTSTAMP:20260421T103314
CREATED:20221129T135934Z
LAST-MODIFIED:20221129T140042Z
UID:5623-1671267600-1671285600@www.golflerma.es
SUMMARY:LERMA. TORNEO DE NAVIDAD 2022
DESCRIPTION:TORNEO DE NAVIDAD A FAVOR DEL BANCO DE ALIMENTOS DE BURGOS. \nSALIDAS AL TIRO A LAS 9.00 h. \nREGLAMENTO clik aquí
URL:https://www.golflerma.es/event/lerma-torneo-de-navidad-2022/
CATEGORIES:Tournament
END:VEVENT
END:VCALENDAR